BEGIN:VCALENDAR
VERSION:2.0
METHOD:PUBLISH
BEGIN:VEVENT
UID:WILD_APRICOT_EVENT_3131520_SESSION_1
DTSTART:20181129T180000Z
DTEND:20181129T190000Z
SUMMARY:CPC Twitter Chat
LOCATION:Twitter #
DESCRIPTION:https://careerprocanada.org/event-3131520\n\n\nEveryone is welcome to this Online Twitter Chat.  Click to add to your calendar.\n\nHOT TOPIC: CANADA CAREER MONTH\nCanada Career Month 2018 is winding down\, and Career Professionals of Canada would like to invite you to a Twitter Chat in recognition of this initiative\, and the role we have all played in increased visibility.\n\nNo need to register\, just join us on Twitter!\nUse the hashtag #cpcchat\nIf you prefer an easy application with no distractions\, access #cpcchat on TweetChat.com.\nFollow @CareerProCanada\n
DTSTAMP:20260420T101047Z
END:VEVENT
END:VCALENDAR
